Workbook

Sheet filtro
A1: Mes | B1: (Todas)
A2: Comuna/Hospital | B2: (Todas)
A4: Etiquetas de fila | B4: Suma de Col01 | C4: Suma de Col02 | D4: Suma de Col03 | E4: Suma de Col04 | F4: Suma de Col05 | G4: Suma de Col06 | H4: Suma de Col07 | I4: Suma de Col08 | J4: Suma de Col09 | K4: Suma de Col10 | L4: Suma de Col11 | M4: Suma de Col12 | N4: Suma de Col13 | O4: Cuenta de Col14 | P4: Cuenta de Col15 | Q4: Cuenta de Col16 | R4: Cuenta de Col17 | S4: Cuenta de Col18 | T4: Cuenta de Col19 | U4: Cuenta de Col20 | V4: Cuenta de Col21 | W4: Cuenta de Col22 | X4: Cuenta de Col23 | Y4: Cuenta de Col24 | Z4: Cuenta de Col25 | AA4: Cuenta de Col26 | AB4: Cuenta de Col27 | AC4: Cuenta de Col28 | AD4: Cuenta de Col29 | AE4: Cuenta de Col30 | AF4: Cuenta de Col31 | AG4: Cuenta de Col32 | AH4: Cuenta de Col33 | AI4: Cuenta de Col34 | AJ4: Cuenta de Col35 | AK4: Cuenta de Col36 | AL4: Cuenta de Col37 | AM4: Cuenta de Col38 | AN4: Cuenta de Col39 | AO4: Cuenta de Col40 | AP4: Cuenta de Col41 | AQ4: Cuenta de col42 | AR4: Cuenta de col43 | AS4: Cuenta de col44 | AT4: Cuenta de col45 | AU4: Cuenta de col46 | AV4: Cuenta de col47 | AW4: Cuenta de col48 | AX4: Cuenta de col49
A5: 15010100 | B5: 112092 | C5: 765 | D5: 2595 | E5: 53180 | F5: 55387 | G5: 27 | H5: 22 | I5: 30 | J5: 76 | L5: 6 | M5: 4
A6: 15010200 | B6: 239538 | G6: 52092 | H6: 99729 | I6: 87717
A7: 15010300 | B7: 3622 | C7: 57 | D7: 311 | E7: 1956 | F7: 1289 | G7: 2 | J7: 1 | K7: 6
A8: 15010400 | B8: 6077 | G8: 986 | H8: 2804 | I8: 2287
A9: 15010500 | B9: 8754 | D9: 26 | E9: 1338 | F9: 1296 | G9: 984 | H9: 2818 | I9: 2292
A10: 15020100 | B10: 4420 | C10: 114 | D10: 291 | E10: 1830 | F10: 2184 | M10: 1
A11: 15020200 | B11: 9197 | G11: 2190 | H11: 3971 | I11: 3036
A12: 15020300 | B12: 27 | C12: 3 | D12: 2 | E12: 12 | F12: 10
A13: 15020400 | B13: 278 | G13: 64 | H13: 98 | I13: 116
A14: 15020500 | B14: 96 | D14: 0 | E14: 2 | F14: 4 | G14: 2 | H14: 32 | I14: 56
A15: 15030100 | B15: 89527.37 | C15: 53052.07 | D15: 9064.67 | E15: 27410.55
A16: 15030200 | B16: 33429.6 | E16: 33429.6
A17: 15040100 | B17: 80.65 | C17: 23.59 | D17: 36.66 | E17: 20.4
A18: 15040200 | B18: 21.6 | E18: 21.6
A19: 15050100 | B19: 216275 | C19: 483 | D19: 1476 | E19: 25264 | F19: 26618 | G19: 31405 | H19: 49400 | I19: 44283 | J19: 24143 | L19: 12540 | M19: 651 | N19: 12
A20: 15050200 | B20: 5622 | C20: 36 | D20: 121 | E20: 645 | F20: 614 | G20: 494 | H20: 1347 | I20: 1125 | K20: 968 | L20: 176 | M20: 82 | N20: 14
A21: 15050500 | B21: 1317 | C21: 227 | D21: 183 | E21: 467 | F21: 180 | G21: 260
A22: 15060100 | B22: 6970 | C22: 62 | D22: 163 | E22: 868 | F22: 1052 | G22: 1087 | H22: 2016 | I22: 1548 | J22: 48 | L22: 75 | M22: 50 | N22: 1
A23: 15060200 | B23: 65 | C23: 1 | D23: 1 | E23: 5 | F23: 5 | G23: 1 | H23: 20 | I23: 29 | K23: 0 | L23: 3 | M23: 0 | N23: 0
A24: 15060600 | B24: 38 | C24: 7 | D24: 9 | E24: 11 | F24: 2 | G24: 9
A25: 15080004 | C25: 9
A26: 15080005 | C26: 1
A27: 15080006 | B27: 974 | F27: 410 | G27: 564
A28: 15080007 | B28: 22 | F28: 2 | G28: 20
A29: 15080008 | B29: 51188 | J29: 24680 | L29: 25818 | M29: 672 | N29: 18
A30: 15080009 | B30: 3622 | K30: 2925 | L30: 500 | M30: 171 | N30: 26
A31: 15080010 | B31: 248 | J31: 44 | L31: 152 | M31: 51 | N31: 1
A32: 15080012 | B32: 134 | D32: 0 | E32: 28 | F32: 56 | G32: 50
A33: 15900010 | B33: 3.63 | C33: 3.63
A34: 15900030 | B34: 171008.06 | C34: 8235.85 | D34: 4079.75 | E34: 12458.55 | F34: 52618.8 | G34: 93615.11
A35: 15900040 | B35: 54720.35 | C35: 52.8 | D35: 4574.8 | E35: 13031.2 | F35: 27803.6 | G35: 9257.95
A36: 15900050 | B36: 1821 | C36: 59 | D36: 185 | E36: 556 | F36: 547 | G36: 474
A37: 15900070 | B37: 4.72 | C37: 4.72
A38: 15900090 | B38: 1 | D38: 1
A39: 15901200 | B39: 48023.29 | C39: 67.05 | D39: 214.15 | E39: 14422.7 | F39: 28413.77 | G39: 4905.62
A40: 15901300 | B40: 13595.6 | C40: 19.2 | D40: 88 | E40: 9128.4 | F40: 229.2 | G40: 4130.8
A41: 15901400 | B41: 670 | C41: 26 | D41: 75 | E41: 249 | F41: 186 | G41: 134
...

Sheet D15
B7: REM-D.15 - Programa Nacional de Alimentación Complementaria (PNAC)
B8: Sección A: PNAC - Cantidad distribuida (kg) a personas intrasistema
B9: Subprogramas | C9: Productos | D9: Total | E9: Menores a 6 años | L9: Gestantes | N9: Madre con hijo/a menor a 6 meses
E10: 0 - 2 meses | F10: 3 - 5 meses | G10: 6 - 11 meses | H10: 12 - 17 meses | I10: 18 - 23 meses | J10: 24 - 47 meses | K10: 48 - 71 meses | L10: Normal, sobrepeso y obesas | M10: Bajo peso | N10: Lactancia materna exclusiva | O10: Lactancia materna predominante | P10: Fórmula predominante o exclusiva
A13: 15010100 | B13: Básico | C13: Leche Purita Fortificada (LPF) | D13: =IFERROR(VLOOKUP($A13,filtro!$A$4:$AX$57,2,FALSE),) -> 112092 | E13: =IFERROR(VLOOKUP($A13,filtro!$A$4:$AX$57,3,FALSE),) -> 765 | F13: =IFERROR(VLOOKUP($A13,filtro!$A$4:$AX$57,4,FALSE),) -> 2595 | G13: =IFERROR(VLOOKUP($A13,filtro!$A$4:$AX$57,5,FALSE),) -> 53180 | H13: =IFERROR(VLOOKUP($A13,filtro!$A$4:$AX$57,6,FALSE),) -> 55387 | I13: =IFERROR(VLOOKUP($A13,filtro!$A$4:$AX$57,7,FALSE),) -> 27 | J13: =IFERROR(VLOOKUP($A13,filtro!$A$4:$AX$57,8,FALSE),) -> 22 | K13: =IFERROR(VLOOKUP($A13,filtro!$A$4:$AX$57,9,FALSE),) -> 30 | L13: =IFERROR(VLOOKUP($A13,filtro!$A$4:$AX$57,10,FALSE),) -> 76 | M13: =IFERROR(VLOOKUP($A13,filtro!$A$4:$AX$57,11,FALSE),) -> 0 | N13: =IFERROR(VLOOKUP($A13,filtro!$A$4:$AX$57,12,FALSE),) -> 6 | O13: =IFERROR(VLOOKUP($A13,filtro!$A$4:$AX$57,13,FALSE),) -> 4 | P13: =IFERROR(VLOOKUP($A13,filtro!$A$4:$AX$57,14,FALSE),) -> 0 | Q13: =AB13&" "&AC13
A14: 15010200 | C14: Purita Cereal (PC) | D14: =IFERROR(VLOOKUP($A14,filtro!$A$4:$AX$57,2,FALSE),) -> 239538 | E14: =IFERROR(VLOOKUP($A14,filtro!$A$4:$AX$57,3,FALSE),) -> 0 | F14: =IFERROR(VLOOKUP($A14,filtro!$A$4:$AX$57,4,FALSE),) -> 0 | G14: =IFERROR(VLOOKUP($A14,filtro!$A$4:$AX$57,5,FALSE),) -> 0 | H14: =IFERROR(VLOOKUP($A14,filtro!$A$4:$AX$57,6,FALSE),) -> 0 | I14: =IFERROR(VLOOKUP($A14,filtro!$A$4:$AX$57,7,FALSE),) -> 52092 | J14: =IFERROR(VLOOKUP($A14,filtro!$A$4:$AX$57,8,FALSE),) -> 99729 | K14: =IFERROR(VLOOKUP($A14,filtro!$A$4:$AX$57,9,FALSE),) -> 87717 | L14: =IFERROR(VLOOKUP($A14,filtro!$A$4:$AX$57,10,FALSE),) -> 0 | M14: =IFERROR(VLOOKUP($A14,filtro!$A$4:$AX$57,11,FALSE),) -> 0 | N14: =IFERROR(VLOOKUP($A14,filtro!$A$4:$AX$57,12,FALSE),) -> 0 | O14: =IFERROR(VLOOKUP($A14,filtro!$A$4:$AX$57,13,FALSE),) -> 0 | P14: =IFERROR(VLOOKUP($A14,filtro!$A$4:$AX$57,14,FALSE),) -> 0
A15: 15080008 | C15: Purita Mamá (PM) | D15: =IFERROR(VLOOKUP($A15,filtro!$A$4:$AX$57,2,FALSE),) -> 51188 | E15: =IFERROR(VLOOKUP($A15,filtro!$A$4:$AX$57,3,FALSE),) -> 0 | F15: =IFERROR(VLOOKUP($A15,filtro!$A$4:$AX$57,4,FALSE),) -> 0 | G15: =IFERROR(VLOOKUP($A15,filtro!$A$4:$AX$57,5,FALSE),) -> 0 | H15: =IFERROR(VLOOKUP($A15,filtro!$A$4:$AX$57,6,FALSE),) -> 0 | I15: =IFERROR(VLOOKUP($A15,filtro!$A$4:$AX$57,7,FALSE),) -> 0 | J15: =IFERROR(VLOOKUP($A15,filtro!$A$4:$AX$57,8,FALSE),) -> 0 | K15: =IFERROR(VLOOKUP($A15,filtro!$A$4:$AX$57,9,FALSE),) -> 0 | L15: =IFERROR(VLOOKUP($A15,filtro!$A$4:$AX$57,10,FALSE),) -> 24680 | M15: =IFERROR(VLOOKUP($A15,filtro!$A$4:$AX$57,11,FALSE),) -> 0 | N15: =IFERROR(VLOOKUP($A15,filtro!$A$4:$AX$57,12,FALSE),) -> 25818 | O15: =IFERROR(VLOOKUP($A15,filtro!$A$4:$AX$57,13,FALSE),) -> 672 | P15: =IFERROR(VLOOKUP($A15,filtro!$A$4:$AX$57,14,FALSE),) -> 18 | AB15: =IF(L13+L15=L38,""," No olvide escribir el Nº Correcto según kg por persona que retira alimento de la sección B en el grupo de Gestantes Normal, Sobrepeso y Obesas") -> No olvide escribir el Nº Correcto según kg por persona que retira alimento de la sección B en el grupo de Gestantes Normal, Sobrepeso y Obesas | AC15: =IF(N13+N15=(N38*2),"","No olvide escribir el Nº Correcto según kg por persona que retira alimento de la sección B en el grupo de Madre con hijo/a menor a 6 meses con Lactancia materna exclusiva") -> No olvide escribir el Nº Correcto según kg por persona que retira alimento de la sección B en el grupo de Madre con hijo/a menor a 6 meses con Lactancia materna exclusiva | AD15: =IF(O13+O15=O38,"","No olvide escribir el Nº Correcto según kg por persona que retira alimento de la sección B en el grupo de Madre con hijo/a menor a 6 meses con Lactancia materna predominante") -> No olvide escribir el Nº Correcto según kg por persona que retira alimento de la sección B en el grupo de Madre con hijo/a menor a 6 meses con Lactancia materna predominante | AE15: =IF(P13+P15=P38,"","No olvide escribir el Nº Correcto según kg por persona que retira alimento de la sección B en el grupo de Madre con hijo/a menor a 6 meses con Formula predominantes o exclusiva") -> No olvide escribir el Nº Correcto según kg por persona que retira alimento de la sección B en el grupo de Madre con hijo/a menor a 6 meses con Formula predominantes o exclusiva | AG15: =IF(L15=L38,0,1) -> 1 | AH15: =IF(N15=(N38*2),0,1) -> 1 | AI15: =IF(O15=O38,0,1) -> 1 | AJ15: =IF(P15=P38,0,1) -> 1
A16: 15900010 | C16: Fórmula de Inicio (FI) | D16: =IFERROR(VLOOKUP($A16,filtro!$A$4:$AX$57,2,FALSE),) -> 3.63 | E16: =IFERROR(VLOOKUP($A16,filtro!$A$4:$AX$57,3,FALSE),) -> 3.63 | F16: =IFERROR(VLOOKUP($A16,filtro!$A$4:$AX$57,4,FALSE),) -> 0 | G16: =IFERROR(VLOOKUP($A16,filtro!$A$4:$AX$57,5,FALSE),) -> 0 | H16: =IFERROR(VLOOKUP($A16,filtro!$A$4:$AX$57,6,FALSE),) -> 0 | I16: =IFERROR(VLOOKUP($A16,filtro!$A$4:$AX$57,7,FALSE),) -> 0 | J16: =IFERROR(VLOOKUP($A16,filtro!$A$4:$AX$57,8,FALSE),) -> 0 | K16: =IFERROR(VLOOKUP($A16,filtro!$A$4:$AX$57,9,FALSE),) -> 0 | L16: =IFERROR(VLOOKUP($A16,filtro!$A$4:$AX$57,10,FALSE),) -> 0 | M16: =IFERROR(VLOOKUP($A16,filtro!$A$4:$AX$57,11,FALSE),) -> 0 | N16: =IFERROR(VLOOKUP($A16,filtro!$A$4:$AX$57,12,FALSE),) -> 0 | O16: =IFERROR(VLOOKUP($A16,filtro!$A$4:$AX$57,13,FALSE),) -> 0 | P16: =IFERROR(VLOOKUP($A16,filtro!$A$4:$AX$57,14,FALSE),) -> 0
C17: Subtotal | D17: =SUM(E17:P17) -> 402821.63 | E17: =+E13+E16 -> 768.63 | F17: =+F13+F16 -> 2595 | G17: =+G13+G16 -> 53180 | H17: =+H13 -> 55387 | I17: =+I13+I14 -> 52119 | J17: =+J13+J14 -> 99751 | K17: =+K13+K14 -> 87747 | L17: =+L13+L15 -> 24756 | M17: =+M13 -> 0 | N17: =+N13+N15 -> 25824 | O17: =+O13+O15 -> 676 | P17: =+P13+P15 -> 18
A18: 15010300 | B18: Refuerzo | C18: Leche Purita Fortificada (LPF) | D18: =IFERROR(VLOOKUP($A18,filtro!$A$4:$AX$57,2,FALSE),) -> 3622 | E18: =IFERROR(VLOOKUP($A18,filtro!$A$4:$AX$57,3,FALSE),) -> 57 | F18: =IFERROR(VLOOKUP($A18,filtro!$A$4:$AX$57,4,FALSE),) -> 311 | G18: =IFERROR(VLOOKUP($A18,filtro!$A$4:$AX$57,5,FALSE),) -> 1956 | H18: =IFERROR(VLOOKUP($A18,filtro!$A$4:$AX$57,6,FALSE),) -> 1289 | I18: =IFERROR(VLOOKUP($A18,filtro!$A$4:$AX$57,7,FALSE),) -> 2 | J18: =IFERROR(VLOOKUP($A18,filtro!$A$4:$AX$57,8,FALSE),) -> 0 | K18: =IFERROR(VLOOKUP($A18,filtro!$A$4:$AX$57,9,FALSE),) -> 0 | L18: =IFERROR(VLOOKUP($A18,filtro!$A$4:$AX$57,10,FALSE),) -> 1 | M18: =IFERROR(VLOOKUP($A18,filtro!$A$4:$AX$57,11,FALSE),) -> 6 | N18: =IFERROR(VLOOKUP($A18,filtro!$A$4:$AX$57,12,FALSE),) -> 0 | O18: =IFERROR(VLOOKUP($A18,filtro!$A$4:$AX$57,13,FALSE),) -> 0 | P18: =IFERROR(VLOOKUP($A18,filtro!$A$4:$AX$57,14,FALSE),) -> 0 | AB18: =IF(L18 = L23, "","el valor de la Leche Purita Fortificada (LPF) deben ser igual al subotal Normal, sobrepeso y obesas del gestante")
A19: 15010400 | C19: Purita Cereal (PC) | D19: =IFERROR(VLOOKUP($A19,filtro!$A$4:$AX$57,2,FALSE),) -> 6077 | E19: =IFERROR(VLOOKUP($A19,filtro!$A$4:$AX$57,3,FALSE),) -> 0 | F19: =IFERROR(VLOOKUP($A19,filtro!$A$4:$AX$57,4,FALSE),) -> 0 | G19: =IFERROR(VLOOKUP($A19,filtro!$A$4:$AX$57,5,FALSE),) -> 0 | H19: =IFERROR(VLOOKUP($A19,filtro!$A$4:$AX$57,6,FALSE),) -> 0 | I19: =IFERROR(VLOOKUP($A19,filtro!$A$4:$AX$57,7,FALSE),) -> 986 | J19: =IFERROR(VLOOKUP($A19,filtro!$A$4:$AX$57,8,FALSE),) -> 2804 | K19: =IFERROR(VLOOKUP($A19,filtro!$A$4:$AX$57,9,FALSE),) -> 2287 | L19: =IFERROR(VLOOKUP($A19,filtro!$A$4:$AX$57,10,FALSE),) -> 0 | M19: =IFERROR(VLOOKUP($A19,filtro!$A$4:$AX$57,11,FALSE),) -> 0 | N19: =IFERROR(VLOOKUP($A19,filtro!$A$4:$AX$57,12,FALSE),) -> 0 | O19: =IFERROR(VLOOKUP($A19,filtro!$A$4:$AX$57,13,FALSE),) -> 0 | P19: =IFERROR(VLOOKUP($A19,filtro!$A$4:$AX$57,14,FALSE),) -> 0
A20: 15010500 | C20: Mi Sopita (MS) | D20: =IFERROR(VLOOKUP($A20,filtro!$A$4:$AX$57,2,FALSE),) -> 8754 | E20: =IFERROR(VLOOKUP($A20,filtro!$A$4:$AX$57,3,FALSE),) -> 0 | F20: =IFERROR(VLOOKUP($A20,filtro!$A$4:$AX$57,4,FALSE),) -> 26 | G20: =IFERROR(VLOOKUP($A20,filtro!$A$4:$AX$57,5,FALSE),) -> 1338 | H20: =IFERROR(VLOOKUP($A20,filtro!$A$4:$AX$57,6,FALSE),) -> 1296 | I20: =IFERROR(VLOOKUP($A20,filtro!$A$4:$AX$57,7,FALSE),) -> 984 | J20: =IFERROR(VLOOKUP($A20,filtro!$A$4:$AX$57,8,FALSE),) -> 2818 | K20: =IFERROR(VLOOKUP($A20,filtro!$A$4:$AX$57,9,FALSE),) -> 2292 | L20: =IFERROR(VLOOKUP($A20,filtro!$A$4:$AX$57,10,FALSE),) -> 0 | M20: =IFERROR(VLOOKUP($A20,filtro!$A$4:$AX$57,11,FALSE),) -> 0 | N20: =IFERROR(VLOOKUP($A20,filtro!$A$4:$AX$57,12,FALSE),) -> 0 | O20: =IFERROR(VLOOKUP($A20,filtro!$A$4:$AX$57,13,FALSE),) -> 0 | P20: =IFERROR(VLOOKUP($A20,filtro!$A$4:$AX$57,14,FALSE),) -> 0
A21: 15080009 | C21: Purita Mamá (PM) | D21: =IFERROR(VLOOKUP($A21,filtro!$A$4:$AX$57,2,FALSE),) -> 3622 | E21: =IFERROR(VLOOKUP($A21,filtro!$A$4:$AX$57,3,FALSE),) -> 0 | F21: =IFERROR(VLOOKUP($A21,filtro!$A$4:$AX$57,4,FALSE),) -> 0 | G21: =IFERROR(VLOOKUP($A21,filtro!$A$4:$AX$57,5,FALSE),) -> 0 | H21: =IFERROR(VLOOKUP($A21,filtro!$A$4:$AX$57,6,FALSE),) -> 0 | I21: =IFERROR(VLOOKUP($A21,filtro!$A$4:$AX$57,7,FALSE),) -> 0 | J21: =IFERROR(VLOOKUP($A21,filtro!$A$4:$AX$57,8,FALSE),) -> 0 | K21: =IFERROR(VLOOKUP($A21,filtro!$A$4:$AX$57,9,FALSE),) -> 0 | L21: =IFERROR(VLOOKUP($A21,filtro!$A$4:$AX$57,10,FALSE),) -> 0 | M21: =IFERROR(VLOOKUP($A21,filtro!$A$4:$AX$57,11,FALSE),) -> 2925 | N21: =IFERROR(VLOOKUP($A21,filtro!$A$4:$AX$57,12,FALSE),) -> 500 | O21: =IFERROR(VLOOKUP($A21,filtro!$A$4:$AX$57,13,FALSE),) -> 171 | P21: =IFERROR(VLOOKUP($A21,filtro!$A$4:$AX$57,14,FALSE),) -> 26
A22: 15900020 | C22: Fórmula de Inicio (FI) | D22: =IFERROR(VLOOKUP($A22,filtro!$A$4:$AX$57,2,FALSE),) -> 0 | E22: =IFERROR(VLOOKUP($A22,filtro!$A$4:$AX$57,3,FALSE),) -> 0 | F22: =IFERROR(VLOOKUP($A22,filtro!$A$4:$AX$57,4,FALSE),) -> 0 | G22: =IFERROR(VLOOKUP($A22,filtro!$A$4:$AX$57,5,FALSE),) -> 0 | H22: =IFERROR(VLOOKUP($A22,filtro!$A$4:$AX$57,6,FALSE),) -> 0 | I22: =IFERROR(VLOOKUP($A22,filtro!$A$4:$AX$57,7,FALSE),) -> 0 | J22: =IFERROR(VLOOKUP($A22,filtro!$A$4:$AX$57,8,FALSE),) -> 0 | K22: =IFERROR(VLOOKUP($A22,filtro!$A$4:$AX$57,9,FALSE),) -> 0 | L22: =IFERROR(VLOOKUP($A22,filtro!$A$4:$AX$57,10,FALSE),) -> 0 | M22: =IFERROR(VLOOKUP($A22,filtro!$A$4:$AX$57,11,FALSE),) -> 0 | N22: =IFERROR(VLOOKUP($A22,filtro!$A$4:$AX$57,12,FALSE),) -> 0 | O22: =IFERROR(VLOOKUP($A22,filtro!$A$4:$AX$57,13,FALSE),) -> 0 | P22: =IFERROR(VLOOKUP($A22,filtro!$A$4:$AX$57,14,FALSE),) -> 0
C23: Subtotal | D23: =SUM(E23:P23) -> 22075 | E23: =+E18+E22 -> 57 | F23: =+F18+F20+F22 -> 337 | G23: =+G18+G20+G22 -> 3294 | H23: =+H18+H20 -> 2585 | I23: =SUM(I18:I20) -> 1972 | J23: =SUM(J18:J20) -> 5622 | K23: =SUM(K18:K20) -> 4579 | L23: =+L18 -> 1 | M23: =+M18+M21 -> 2931 | N23: =+N18+N21 -> 500 | O23: =+O18+O21 -> 171 | P23: =+P18+P21 -> 26
A24: 15030100 | B24: Prematuros Extremos | C24: Fórmula de Prematuros (FP) | D24: =IFERROR(VLOOKUP($A24,filtro!$A$4:$AX$57,2,FALSE),) -> 89527.37 | E24: =IFERROR(VLOOKUP($A24,filtro!$A$4:$AX$57,3,FALSE),) -> 53052.07 | F24: =IFERROR(VLOOKUP($A24,filtro!$A$4:$AX$57,4,FALSE),) -> 9064.67 | G24: =IFERROR(VLOOKUP($A24,filtro!$A$4:$AX$57,5,FALSE),) -> 27410.55 | H24: =IFERROR(VLOOKUP($A24,filtro!$A$4:$AX$57,6,FALSE),) -> 0 | I24: =IFERROR(VLOOKUP($A24,filtro!$A$4:$AX$57,7,FALSE),) -> 0 | J24: =IFERROR(VLOOKUP($A24,filtro!$A$4:$AX$57,8,FALSE),) -> 0 | K24: =IFERROR(VLOOKUP($A24,filtro!$A$4:$AX$57,9,FALSE),) -> 0 | L24: =IFERROR(VLOOKUP($A24,filtro!$A$4:$AX$57,10,FALSE),) -> 0 | M24: =IFERROR(VLOOKUP($A24,filtro!$A$4:$AX$57,11,FALSE),) -> 0 | N24: =IFERROR(VLOOKUP($A24,filtro!$A$4:$AX$57,12,FALSE),) -> 0 | O24: =IFERROR(VLOOKUP($A24,filtro!$A$4:$AX$57,13,FALSE),) -> 0 | P24: =IFERROR(VLOOKUP($A24,filtro!$A$4:$AX$57,14,FALSE),) -> 0
A25: 15030200 | C25: Fórmula de Continuación (FC) | D25: =IFERROR(VLOOKUP($A25,filtro!$A$4:$AX$57,2,FALSE),) -> 33429.6 | E25: =IFERROR(VLOOKUP($A25,filtro!$A$4:$AX$57,3,FALSE),) -> 0 | F25: =IFERROR(VLOOKUP($A25,filtro!$A$4:$AX$57,4,FALSE),) -> 0 | G25: =IFERROR(VLOOKUP($A25,filtro!$A$4:$AX$57,5,FALSE),) -> 33429.6 | H25: =IFERROR(VLOOKUP($A25,filtro!$A$4:$AX$57,6,FALSE),) -> 0 | I25: =IFERROR(VLOOKUP($A25,filtro!$A$4:$AX$57,7,FALSE),) -> 0 | J25: =IFERROR(VLOOKUP($A25,filtro!$A$4:$AX$57,8,FALSE),) -> 0 | K25: =IFERROR(VLOOKUP($A25,filtro!$A$4:$AX$57,9,FALSE),) -> 0 | L25: =IFERROR(VLOOKUP($A25,filtro!$A$4:$AX$57,10,FALSE),) -> 0 | M25: =IFERROR(VLOOKUP($A25,filtro!$A$4:$AX$57,11,FALSE),) -> 0 | N25: =IFERROR(VLOOKUP($A25,filtro!$A$4:$AX$57,12,FALSE),) -> 0 | O25: =IFERROR(VLOOKUP($A25,filtro!$A$4:$AX$57,13,FALSE),) -> 0 | P25: =IFERROR(VLOOKUP($A25,filtro!$A$4:$AX$57,14,FALSE),) -> 0
A26: 15080006 | C26: Leche Purita Fortificada (LPF) | D26: =IFERROR(VLOOKUP($A26,filtro!$A$4:$AX$57,2,FALSE),) -> 974 | E26: =IFERROR(VLOOKUP($A26,filtro!$A$4:$AX$57,3,FALSE),) -> 0 | F26: =IFERROR(VLOOKUP($A26,filtro!$A$4:$AX$57,4,FALSE),) -> 0 | G26: =IFERROR(VLOOKUP($A26,filtro!$A$4:$AX$57,5,FALSE),) -> 0 | H26: =IFERROR(VLOOKUP($A26,filtro!$A$4:$AX$57,6,FALSE),) -> 410 | I26: =IFERROR(VLOOKUP($A26,filtro!$A$4:$AX$57,7,FALSE),) -> 564 | J26: =IFERROR(VLOOKUP($A26,filtro!$A$4:$AX$57,8,FALSE),) -> 0 | K26: =IFERROR(VLOOKUP($A26,filtro!$A$4:$AX$57,9,FALSE),) -> 0 | L26: =IFERROR(VLOOKUP($A26,filtro!$A$4:$AX$57,10,FALSE),) -> 0 | M26: =IFERROR(VLOOKUP($A26,filtro!$A$4:$AX$57,11,FALSE),) -> 0 | N26: =IFERROR(VLOOKUP($A26,filtro!$A$4:$AX$57,12,FALSE),) -> 0 | O26: =IFERROR(VLOOKUP($A26,filtro!$A$4:$AX$57,13,FALSE),) -> 0 | P26: =IFERROR(VLOOKUP($A26,filtro!$A$4:$AX$57,14,FALSE),) -> 0
A27: 15080012 | C27: Mi Sopita (MS) | D27: =IFERROR(VLOOKUP($A27,filtro!$A$4:$AX$57,2,FALSE),) -> 134 | E27: =IFERROR(VLOOKUP($A27,filtro!$A$4:$AX$57,3,FALSE),) -> 0 | F27: =IFERROR(VLOOKUP($A27,filtro!$A$4:$AX$57,4,FALSE),) -> 0 | G27: =IFERROR(VLOOKUP($A27,filtro!$A$4:$AX$57,5,FALSE),) -> 28 | H27: =IFERROR(VLOOKUP($A27,filtro!$A$4:$AX$57,6,FALSE),) -> 56 | I27: =IFERROR(VLOOKUP($A27,filtro!$A$4:$AX$57,7,FALSE),) -> 50 | J27: =IFERROR(VLOOKUP($A27,filtro!$A$4:$AX$57,8,FALSE),) -> 0 | K27: =IFERROR(VLOOKUP($A27,filtro!$A$4:$AX$57,9,FALSE),) -> 0 | L27: =IFERROR(VLOOKUP($A27,filtro!$A$4:$AX$57,10,FALSE),) -> 0 | M27: =IFERROR(VLOOKUP($A27,filtro!$A$4:$AX$57,11,FALSE),) -> 0 | N27: =IFERROR(VLOOKUP($A27,filtro!$A$4:$AX$57,12,FALSE),) -> 0 | O27: =IFERROR(VLOOKUP($A27,filtro!$A$4:$AX$57,13,FALSE),) -> 0 | P27: =IFERROR(VLOOKUP($A27,filtro!$A$4:$AX$57,14,FALSE),) -> 0
C28: Subtotal | D28: =SUM(E28:P28) -> 124064.89 | E28: =+E24 -> 53052.07 | F28: =+F24+F27 -> 9064.67 | G28: =+G24+G25+G27 -> 60868.15 | H28: =+H26+H27 -> 466 | I28: =+I26+I27 -> 614 | J28: 0 | K28: 0 | L28: 0 | M28: 0 | N28: 0 | O28: 0 | P28: 0
A29: 15900030 | B29: Alergia a la proteína de la leche de vaca | C29: Fórmula Extensamente Hidrolizada (FEH) | D29: =IFERROR(VLOOKUP($A29,filtro!$A$4:$AX$57,2,FALSE),) -> 171008.06 | E29: =IFERROR(VLOOKUP($A29,filtro!$A$4:$AX$57,3,FALSE),) -> 8235.85 | F29: =IFERROR(VLOOKUP($A29,filtro!$A$4:$AX$57,4,FALSE),) -> 4079.75 | G29: =IFERROR(VLOOKUP($A29,filtro!$A$4:$AX$57,5,FALSE),) -> 12458.55 | H29: =IFERROR(VLOOKUP($A29,filtro!$A$4:$AX$57,6,FALSE),) -> 52618.8 | I29: =IFERROR(VLOOKUP($A29,filtro!$A$4:$AX$57,7,FALSE),) -> 93615.11 | J29: =IFERROR(VLOOKUP($A29,filtro!$A$4:$AX$57,8,FALSE),) -> 0 | K29: =IFERROR(VLOOKUP($A29,filtro!$A$4:$AX$57,9,FALSE),) -> 0 | L29: =IFERROR(VLOOKUP($A29,filtro!$A$4:$AX$57,10,FALSE),) -> 0 | M29: =IFERROR(VLOOKUP($A29,filtro!$A$4:$AX$57,11,FALSE),) -> 0 | N29: =IFERROR(VLOOKUP($A29,filtro!$A$4:$AX$57,12,FALSE),) -> 0 | O29: =IFERROR(VLOOKUP($A29,filtro!$A$4:$AX$57,13,FALSE),) -> 0 | P29: =IFERROR(VLOOKUP($A29,filtro!$A$4:$AX$57,14,FALSE),) -> 0
A30: 15900040 | C30: Fórmula Aminoacídica (FAA) | D30: =IFERROR(VLOOKUP($A30,filtro!$A$4:$AX$57,2,FALSE),) -> 54720.35 | E30: =IFERROR(VLOOKUP($A30,filtro!$A$4:$AX$57,3,FALSE),) -> 52.8 | F30: =IFERROR(VLOOKUP($A30,filtro!$A$4:$AX$57,4,FALSE),) -> 4574.8 | G30: =IFERROR(VLOOKUP($A30,filtro!$A$4:$AX$57,5,FALSE),) -> 13031.2 | H30: =IFERROR(VLOOKUP($A30,filtro!$A$4:$AX$57,6,FALSE),) -> 27803.6 | I30: =IFERROR(VLOOKUP($A30,filtro!$A$4:$AX$57,7,FALSE),) -> 9257.95 | J30: =IFERROR(VLOOKUP($A30,filtro!$A$4:$AX$57,8,FALSE),) -> 0 | K30: =IFERROR(VLOOKUP($A30,filtro!$A$4:$AX$57,9,FALSE),) -> 0 | L30: =IFERROR(VLOOKUP($A30,filtro!$A$4:$AX$57,10,FALSE),) -> 0 | M30: =IFERROR(VLOOKUP($A30,filtro!$A$4:$AX$57,11,FALSE),) -> 0 | N30: =IFERROR(VLOOKUP($A30,filtro!$A$4:$AX$57,12,FALSE),) -> 0 | O30: =IFERROR(VLOOKUP($A30,filtro!$A$4:$AX$57,13,FALSE),) -> 0 | P30: =IFERROR(VLOOKUP($A30,filtro!$A$4:$AX$57,14,FALSE),) -> 0
C31: Subtotal | D31: =SUM(E31:P31) -> 225728.41 | E31: =SUM(E29:E30) -> 8288.65 | F31: =SUM(F29:F30) -> 8654.55 | G31: =SUM(G29:G30) -> 25489.75 | H31: =SUM(H29:H30) -> 80422.4 | I31: =SUM(I29:I30) -> 102873.06 | J31: 0 | K31: 0 | L31: 0 | M31: 0 | N31: 0 | O31: 0 | P31: 0
B32: Total | D32: =SUM(E32:P32) -> 774689.93 | E32: =+E17+E23+E31+E28 -> 62166.35 | F32: =+F17+F23+F31+F28 -> 20651.22 | G32: =+G17+G23+G31+G28 -> 142831.9 | H32: =+H17+H23+H31+H28 -> 138860.4 | I32: =+I17+I23+I31+I28 -> 157578.06 | J32: =+J17+J23 -> 105373 | K32: =+K17+K23 -> 92326 | L32: =+L17+L23 -> 24757 | M32: =+M17+M23 -> 2931 | N32: =+N17+N23 -> 26324 | O32: =+O17+O23 -> 847 | P32: =+P17+P23 -> 44
B33: Sección B: PNAC - Número de personas intrasistema que retiran
B34: Subprogramas | D34: Total | E34: Menores a 6 años | L34: Gestantes | N34: Madre con hijo/a menor a 6 meses
E35: 0 - 2 meses | F35: 3 - 5 meses | G35: 6 - 11 meses | H35: 12 - 17 meses | I35: 18 - 23 meses | J35: 24 - 47 meses | K35: 48 - 71 meses | L35: Normal, sobrepeso y obesas | M35: Bajo peso | N35: Lactancia materna exclusiva | O35: Lactancia materna predominante | P35: Fórmula predominante o exclusiva
A38: 15050100 | B38: Básico | D38: =IFERROR(VLOOKUP($A38,filtro!$A$4:$AX$57,2,FALSE),) -> 216275 | E38: =IFERROR(VLOOKUP($A38,filtro!$A$4:$AX$57,3,FALSE),) -> 483 | F38: =IFERROR(VLOOKUP($A38,filtro!$A$4:$AX$57,4,FALSE),) -> 1476 | G38: =IFERROR(VLOOKUP($A38,filtro!$A$4:$AX$57,5,FALSE),) -> 25264 | H38: =IFERROR(VLOOKUP($A38,filtro!$A$4:$AX$57,6,FALSE),) -> 26618 | I38: =IFERROR(VLOOKUP($A38,filtro!$A$4:$AX$57,7,FALSE),) -> 31405 | J38: =IFERROR(VLOOKUP($A38,filtro!$A$4:$AX$57,8,FALSE),) -> 49400 | K38: =IFERROR(VLOOKUP($A38,filtro!$A$4:$AX$57,9,FALSE),) -> 44283 | L38: =IFERROR(VLOOKUP($A38,filtro!$A$4:$AX$57,10,FALSE),) -> 24143 | M38: =IFERROR(VLOOKUP($A38,filtro!$A$4:$AX$57,11,FALSE),) -> 0 | N38: =IFERROR(VLOOKUP($A38,filtro!$A$4:$AX$57,12,FALSE),) -> 12540 | O38: =IFERROR(VLOOKUP($A38,filtro!$A$4:$AX$57,13,FALSE),) -> 651 | P38: =IFERROR(VLOOKUP($A38,filtro!$A$4:$AX$57,14,FALSE),) -> 12 | Q38: =$AB38&" "&$AC38&" "&$AD38&" "&$AE38&" "&$AB39&" "&$AC39&" "&$AD39&" "&$AE39
A39: 15050200 | B39: Refuerzo | D39: =IFERROR(VLOOKUP($A39,filtro!$A$4:$AX$57,2,FALSE),) -> 5622 | E39: =IFERROR(VLOOKUP($A39,filtro!$A$4:$AX$57,3,FALSE),) -> 36 | F39: =IFERROR(VLOOKUP($A39,filtro!$A$4:$AX$57,4,FALSE),) -> 121 | G39: =IFERROR(VLOOKUP($A39,filtro!$A$4:$AX$57,5,FALSE),) -> 645 | H39: =IFERROR(VLOOKUP($A39,filtro!$A$4:$AX$57,6,FALSE),) -> 614 | I39: =IFERROR(VLOOKUP($A39,filtro!$A$4:$AX$57,7,FALSE),) -> 494 | J39: =IFERROR(VLOOKUP($A39,filtro!$A$4:$AX$57,8,FALSE),) -> 1347 | K39: =IFERROR(VLOOKUP($A39,filtro!$A$4:$AX$57,9,FALSE),) -> 1125 | L39: =IFERROR(VLOOKUP($A39,filtro!$A$4:$AX$57,10,FALSE),) -> 0 | M39: =IFERROR(VLOOKUP($A39,filtro!$A$4:$AX$57,11,FALSE),) -> 968 | N39: =IFERROR(VLOOKUP($A39,filtro!$A$4:$AX$57,12,FALSE),) -> 176 | O39: =IFERROR(VLOOKUP($A39,filtro!$A$4:$AX$57,13,FALSE),) -> 82 | P39: =IFERROR(VLOOKUP($A39,filtro!$A$4:$AX$57,14,FALSE),) -> 14 | Q39: =$AB42&" "&$AC42&""&$AD42&""&$AE42&""&$AB40&" "&$AC40&""&$AD40&""&$AE40&""&$AB43&" "&$AC43&" "&$AD43
A40: 15050500 | B40: Prematuros Extremos | D40: =IFERROR(VLOOKUP($A40,filtro!$A$4:$AX$57,2,FALSE),) -> 1317 | E40: =IFERROR(VLOOKUP($A40,filtro!$A$4:$AX$57,3,FALSE),) -> 227 | F40: =IFERROR(VLOOKUP($A40,filtro!$A$4:$AX$57,4,FALSE),) -> 183 | G40: =IFERROR(VLOOKUP($A40,filtro!$A$4:$AX$57,5,FALSE),) -> 467 | H40: =IFERROR(VLOOKUP($A40,filtro!$A$4:$AX$57,6,FALSE),) -> 180 | I40: =IFERROR(VLOOKUP($A40,filtro!$A$4:$AX$57,7,FALSE),) -> 260 | J40: =IFERROR(VLOOKUP($A40,filtro!$A$4:$AX$57,8,FALSE),) -> 0 | K40: =IFERROR(VLOOKUP($A40,filtro!$A$4:$AX$57,9,FALSE),) -> 0 | L40: =IFERROR(VLOOKUP($A40,filtro!$A$4:$AX$57,10,FALSE),) -> 0 | M40: =IFERROR(VLOOKUP($A40,filtro!$A$4:$AX$57,11,FALSE),) -> 0 | N40: =IFERROR(VLOOKUP($A40,filtro!$A$4:$AX$57,12,FALSE),) -> 0 | O40: =IFERROR(VLOOKUP($A40,filtro!$A$4:$AX$57,13,FALSE),) -> 0 | P40: =IFERROR(VLOOKUP($A40,filtro!$A$4:$AX$57,14,FALSE),) -> 0
A41: 15900050 | B41: Alergia a la Proteína de la leche de vaca | D41: =IFERROR(VLOOKUP($A41,filtro!$A$4:$AX$57,2,FALSE),) -> 1821 | E41: =IFERROR(VLOOKUP($A41,filtro!$A$4:$AX$57,3,FALSE),) -> 59 | F41: =IFERROR(VLOOKUP($A41,filtro!$A$4:$AX$57,4,FALSE),) -> 185 | G41: =IFERROR(VLOOKUP($A41,filtro!$A$4:$AX$57,5,FALSE),) -> 556 | H41: =IFERROR(VLOOKUP($A41,filtro!$A$4:$AX$57,6,FALSE),) -> 547 | I41: =IFERROR(VLOOKUP($A41,filtro!$A$4:$AX$57,7,FALSE),) -> 474 | J41: =IFERROR(VLOOKUP($A41,filtro!$A$4:$AX$57,8,FALSE),) -> 0 | K41: =IFERROR(VLOOKUP($A41,filtro!$A$4:$AX$57,9,FALSE),) -> 0 | L41: =IFERROR(VLOOKUP($A41,filtro!$A$4:$AX$57,10,FALSE),) -> 0 | M41: =IFERROR(VLOOKUP($A41,filtro!$A$4:$AX$57,11,FALSE),) -> 0 | N41: =IFERROR(VLOOKUP($A41,filtro!$A$4:$AX$57,12,FALSE),) -> 0 | O41: =IFERROR(VLOOKUP($A41,filtro!$A$4:$AX$57,13,FALSE),) -> 0 | P41: =IFERROR(VLOOKUP($A41,filtro!$A$4:$AX$57,14,FALSE),) -> 0
B42: TOTAL | D42: =SUM(E42:P42) -> 225035 | E42: =SUM(E38:E41) -> 805 | F42: =SUM(F38:F41) -> 1965 | G42: =SUM(G38:G41) -> 26932 | H42: =SUM(H38:H41) -> 27959 | I42: =SUM(I38:I41) -> 32633 | J42: =SUM(J38:J39) -> 50747 | K42: =SUM(K38:K39) -> 45408 | L42: =L38 -> 24143 | M42: =M39 -> 968 | N42: =SUM(N38:N39) -> 12716 | O42: =SUM(O38:O39) -> 733 | P42: =SUM(P38:P39) -> 26
A43: 15900060 | B43: Programas Sociales (*) | D43: =IFERROR(VLOOKUP($A43,filtro!$A$4:$AX$57,2,FALSE),) -> 0 | E43: =IFERROR(VLOOKUP($A43,filtro!$A$4:$AX$57,3,FALSE),) -> 0 | F43: =IFERROR(VLOOKUP($A43,filtro!$A$4:$AX$57,4,FALSE),) -> 0 | G43: =IFERROR(VLOOKUP($A43,filtro!$A$4:$AX$57,5,FALSE),) -> 0 | H43: =IFERROR(VLOOKUP($A43,filtro!$A$4:$AX$57,6,FALSE),) -> 0 | I43: =IFERROR(VLOOKUP($A43,filtro!$A$4:$AX$57,7,FALSE),) -> 0 | J43: =IFERROR(VLOOKUP($A43,filtro!$A$4:$AX$57,8,FALSE),) -> 0 | K43: =IFERROR(VLOOKUP($A43,filtro!$A$4:$AX$57,9,FALSE),) -> 0 | L43: =IFERROR(VLOOKUP($A43,filtro!$A$4:$AX$57,10,FALSE),) -> 0 | M43: =IFERROR(VLOOKUP($A43,filtro!$A$4:$AX$57,11,FALSE),) -> 0 | N43: =IFERROR(VLOOKUP($A43,filtro!$A$4:$AX$57,12,FALSE),) -> 0 | O43: =IFERROR(VLOOKUP($A43,filtro!$A$4:$AX$57,13,FALSE),) -> 0 | P43: =IFERROR(VLOOKUP($A43,filtro!$A$4:$AX$57,14,FALSE),) -> 0
B44: Nota: (*) Información referencial, ya incluida en los subprogramas.
B45: Sección C: PNAC: Cantidad distribuida (kg) a personas extrasistema (incluye modalidad libre elección)
B46: Subprogramas | C46: Productos | D46: Total | E46: Menores a 6 años | L46: Gestantes | N46: Madre con hijo/a menor a 6 meses
E47: 0 - 2 meses | F47: 3 - 5 meses | G47: 6 - 11 meses | H47: 12 - 17 meses | I47: 18 - 23 meses | J47: 24 - 47 meses | K47: 48 - 71 meses | L47: Normal, sobrepeso y obesas | M47: Bajo peso | N47: Lactancia materna exclusiva | O47: Lactancia materna predominante | P47: Fórmula predominante o exclusiva
A50: 15020100 | B50: Básico | C50: Leche Purita Fortificada (LPF) | D50: =IFERROR(VLOOKUP($A50,filtro!$A$4:$AX$57,2,FALSE),) -> 4420 | E50: =IFERROR(VLOOKUP($A50,filtro!$A$4:$AX$57,3,FALSE),) -> 114 | F50: =IFERROR(VLOOKUP($A50,filtro!$A$4:$AX$57,4,FALSE),) -> 291 | G50: =IFERROR(VLOOKUP($A50,filtro!$A$4:$AX$57,5,FALSE),) -> 1830 | H50: =IFERROR(VLOOKUP($A50,filtro!$A$4:$AX$57,6,FALSE),) -> 2184 | I50: =IFERROR(VLOOKUP($A50,filtro!$A$4:$AX$57,7,FALSE),) -> 0 | J50: =IFERROR(VLOOKUP($A50,filtro!$A$4:$AX$57,8,FALSE),) -> 0 | K50: =IFERROR(VLOOKUP($A50,filtro!$A$4:$AX$57,9,FALSE),) -> 0 | L50: =IFERROR(VLOOKUP($A50,filtro!$A$4:$AX$57,10,FALSE),) -> 0 | M50: =IFERROR(VLOOKUP($A50,filtro!$A$4:$AX$57,11,FALSE),) -> 0 | N50: =IFERROR(VLOOKUP($A50,filtro!$A$4:$AX$57,12,FALSE),) -> 0 | O50: =IFERROR(VLOOKUP($A50,filtro!$A$4:$AX$57,13,FALSE),) -> 1 | P50: =IFERROR(VLOOKUP($A50,filtro!$A$4:$AX$57,14,FALSE),) -> 0 | Q50: =AB50&" "&AC50
A51: 15020200 | C51: Purita Cereal (PC) | D51: =IFERROR(VLOOKUP($A51,filtro!$A$4:$AX$57,2,FALSE),) -> 9197 | E51: =IFERROR(VLOOKUP($A51,filtro!$A$4:$AX$57,3,FALSE),) -> 0 | F51: =IFERROR(VLOOKUP($A51,filtro!$A$4:$AX$57,4,FALSE),) -> 0 | G51: =IFERROR(VLOOKUP($A51,filtro!$A$4:$AX$57,5,FALSE),) -> 0 | H51: =IFERROR(VLOOKUP($A51,filtro!$A$4:$AX$57,6,FALSE),) -> 0 | I51: =IFERROR(VLOOKUP($A51,filtro!$A$4:$AX$57,7,FALSE),) -> 2190 | J51: =IFERROR(VLOOKUP($A51,filtro!$A$4:$AX$57,8,FALSE),) -> 3971 | K51: =IFERROR(VLOOKUP($A51,filtro!$A$4:$AX$57,9,FALSE),) -> 3036 | L51: =IFERROR(VLOOKUP($A51,filtro!$A$4:$AX$57,10,FALSE),) -> 0 | M51: =IFERROR(VLOOKUP($A51,filtro!$A$4:$AX$57,11,FALSE),) -> 0 | N51: =IFERROR(VLOOKUP($A51,filtro!$A$4:$AX$57,12,FALSE),) -> 0 | O51: =IFERROR(VLOOKUP($A51,filtro!$A$4:$AX$57,13,FALSE),) -> 0 | P51: =IFERROR(VLOOKUP($A51,filtro!$A$4:$AX$57,14,FALSE),) -> 0
A52: 15080010 | C52: Purita Mamá (PM) | D52: =IFERROR(VLOOKUP($A52,filtro!$A$4:$AX$57,2,FALSE),) -> 248 | E52: =IFERROR(VLOOKUP($A52,filtro!$A$4:$AX$57,3,FALSE),) -> 0 | F52: =IFERROR(VLOOKUP($A52,filtro!$A$4:$AX$57,4,FALSE),) -> 0 | G52: =IFERROR(VLOOKUP($A52,filtro!$A$4:$AX$57,5,FALSE),) -> 0 | H52: =IFERROR(VLOOKUP($A52,filtro!$A$4:$AX$57,6,FALSE),) -> 0 | I52: =IFERROR(VLOOKUP($A52,filtro!$A$4:$AX$57,7,FALSE),) -> 0 | J52: =IFERROR(VLOOKUP($A52,filtro!$A$4:$AX$57,8,FALSE),) -> 0 | K52: =IFERROR(VLOOKUP($A52,filtro!$A$4:$AX$57,9,FALSE),) -> 0 | L52: =IFERROR(VLOOKUP($A52,filtro!$A$4:$AX$57,10,FALSE),) -> 44 | M52: =IFERROR(VLOOKUP($A52,filtro!$A$4:$AX$57,11,FALSE),) -> 0 | N52: =IFERROR(VLOOKUP($A52,filtro!$A$4:$AX$57,12,FALSE),) -> 152 | O52: =IFERROR(VLOOKUP($A52,filtro!$A$4:$AX$57,13,FALSE),) -> 51 | P52: =IFERROR(VLOOKUP($A52,filtro!$A$4:$AX$57,14,FALSE),) -> 1 | AB52: =IF(L50+L52=L75,""," No olvide escribir el Nº Correcto según kg por persona que retira alimento de la sección D en el grupo de Gestantes Normal, Sobrepeso y Obesas.") -> No olvide escribir el Nº Correcto según kg por persona que retira alimento de la sección D en el grupo de Gestantes Normal, Sobrepeso y Obesas. | AC52: =IF(N50+N52=N75*2,"","No olvide escribir el Nº Correcto según kg por persona que retira alimento de la sección D en el grupo de Madre con hijo/a menor a 6 meses con Lactancia materna exclusiva") -> No olvide escribir el Nº Correcto según kg por persona que retira alimento de la sección D en el grupo de Madre con hijo/a menor a 6 meses con Lactancia materna exclusiva | AD52: =IF(O50+O52=O75,"","No olvide escribir el Nº Correcto según kg por persona que retira alimento de la sección D en el grupo de Madre con hijo/a menor a 6 meses con Lactancia materna predominante") -> No olvide escribir el Nº Correcto según kg por persona que retira alimento de la sección D en el grupo de Madre con hijo/a menor a 6 meses con Lactancia materna predominante | AE52: =IF(P50+P52=P75,"","No olvide escribir el Nº Correcto según kg por persona que retira alimento de la sección D en el grupo de Madre con hijo/a menor a 6 meses con Fórmula predominantes o exclusiva") | AG52: =IF(L52=L75,0,1) -> 1 | AH52: =IF(N52=(N75*2),0,1) -> 1 | AI52: =IF(O52=O75,0,1) -> 1 | AJ52: =IF(P52=P75,0,1) -> 0
...

Sheet D16
B7: REM-D.16. Programa de Alimentación Complementaria del Adulto Mayor (PACAM)
B8: Sección A: PACAM - Cantidad distribuida (kg)
B9: Grupo Programático | C9: Crema Años Dorados (CAD) | D9: Bebida Láctea Años Dorados (BLAD)
A10: 16090300 | B10: 70 años y más (independiente del motivo de ingreso) | C10: =IFERROR(VLOOKUP($A10,filtro!$A$4:$AX$57,2,FALSE),) -> 299791 | D10: =IFERROR(VLOOKUP($A10,filtro!$A$4:$AX$57,3,FALSE),) -> 299793 | AC10: =IF(D10<>F19," No olvide que el Nº de personas que retira Bebida Láctea Años Dorados (BLAD) en la sección B debe ser igual a los Kilos que retiran en Seccion A.-","") -> No olvide que el Nº de personas que retira Bebida Láctea Años Dorados (BLAD) en la sección B debe ser igual a los Kilos que retiran en Seccion A.-
A11: 16200210 | B11: 65 - 69 años con alteración de la funcionalidad | C11: =IFERROR(VLOOKUP($A11,filtro!$A$4:$AX$57,2,FALSE),) -> 26982 | D11: =IFERROR(VLOOKUP($A11,filtro!$A$4:$AX$57,3,FALSE),) -> 26980 | AC11: =IF(D11<>F20," No olvide que el Nº de personas que retira Bebida Láctea Años Dorados (BLAD) en la sección B debe ser igual a los Kilos que retiran en Seccion A.-","") -> No olvide que el Nº de personas que retira Bebida Láctea Años Dorados (BLAD) en la sección B debe ser igual a los Kilos que retiran en Seccion A.-
A12: 16090500 | B12: 65 - 69 años en programa social (Vínculos, Familia, Calle u otro) | C12: =IFERROR(VLOOKUP($A12,filtro!$A$4:$AX$57,2,FALSE),) -> 1029 | D12: =IFERROR(VLOOKUP($A12,filtro!$A$4:$AX$57,3,FALSE),) -> 1029 | AC12: =IF(D12<>F21," No olvide que el Nº de personas que retira Bebida Láctea Años Dorados (BLAD) en la sección B debe ser igual a los Kilos que retiran en Seccion A.-","") -> No olvide que el Nº de personas que retira Bebida Láctea Años Dorados (BLAD) en la sección B debe ser igual a los Kilos que retiran en Seccion A.-
A13: 16090600 | B13: 60 - 69 años con tuberculosis | C13: =IFERROR(VLOOKUP($A13,filtro!$A$4:$AX$57,2,FALSE),) -> 80 | D13: =IFERROR(VLOOKUP($A13,filtro!$A$4:$AX$57,3,FALSE),) -> 80 | AC13: =IF(D13<>F22," No olvide que el Nº de personas que retira Bebida Láctea Años Dorados (BLAD) en la sección B debe ser igual a los Kilos que retiran en Seccion A.-","") -> No olvide que el Nº de personas que retira Bebida Láctea Años Dorados (BLAD) en la sección B debe ser igual a los Kilos que retiran en Seccion A.-
A14: 16090100 | B14: 60 - 69 años en ELEAM autorizado o similar | C14: =IFERROR(VLOOKUP($A14,filtro!$A$4:$AX$57,2,FALSE),) -> 511 | D14: =IFERROR(VLOOKUP($A14,filtro!$A$4:$AX$57,3,FALSE),) -> 511 | AC14: =IF(D14<>F23," No olvide que el Nº de personas que retira Bebida Láctea Años Dorados (BLAD) en la sección B debe ser igual a los Kilos que retiran en Seccion A.-","") -> No olvide que el Nº de personas que retira Bebida Láctea Años Dorados (BLAD) en la sección B debe ser igual a los Kilos que retiran en Seccion A.-
B15: TOTAL | C15: =SUM(C10:C14) -> 328393 | D15: =SUM(D10:D14) -> 328393
B16: Sección B: PACAM - Número de personas que retiran
B17: Grupo Programático | C17: Crema Años Dorados (CAD) | F17: Bebida Láctea Años Dorados (BLAD)
C18: Personas (que retiran en el mes) | D18: Ingresos del mes | E18: Inasistentes del mes | F18: Personas (que retiran en el mes) | G18: Ingresos del mes | H18: Inasistentes del mes
A19: 16100300 | B19: 70 años y más (independiente del motivo de ingreso | C19: =IFERROR(VLOOKUP($A19,filtro!$A$4:$AX$57,2,FALSE),) -> 281255 | D19: =IFERROR(VLOOKUP($A19,filtro!$A$4:$AX$57,3,FALSE),) -> 5136 | E19: =IFERROR(VLOOKUP($A19,filtro!$A$4:$AX$57,4,FALSE),) -> 60408 | F19: =IFERROR(VLOOKUP($A19,filtro!$A$4:$AX$57,5,FALSE),) -> 281152 | G19: =IFERROR(VLOOKUP($A19,filtro!$A$4:$AX$57,6,FALSE),) -> 5277 | H19: =IFERROR(VLOOKUP($A19,filtro!$A$4:$AX$57,7,FALSE),) -> 59296 | AC19: =IF(D10<>F19," No olvide que el Nº de personas que retira Bebida Láctea Años Dorados (BLAD) debe ser igual a los Kilos que retiran en Seccion A.-","") -> No olvide que el Nº de personas que retira Bebida Láctea Años Dorados (BLAD) debe ser igual a los Kilos que retiran en Seccion A.- | AE19: =IF($C19=0,"",IF($C10="",IF($C19="",0,1),"")) | AF19: =IF($F19=0,"",IF($D10="",IF($F19="",0,1),""))
A20: 16200220 | B20: 65 - 69 años con alteración de la funcionalidad | C20: =IFERROR(VLOOKUP($A20,filtro!$A$4:$AX$57,2,FALSE),) -> 25329 | D20: =IFERROR(VLOOKUP($A20,filtro!$A$4:$AX$57,3,FALSE),) -> 1001 | E20: =IFERROR(VLOOKUP($A20,filtro!$A$4:$AX$57,4,FALSE),) -> 5628 | F20: =IFERROR(VLOOKUP($A20,filtro!$A$4:$AX$57,5,FALSE),) -> 25327 | G20: =IFERROR(VLOOKUP($A20,filtro!$A$4:$AX$57,6,FALSE),) -> 1010 | H20: =IFERROR(VLOOKUP($A20,filtro!$A$4:$AX$57,7,FALSE),) -> 5817 | AC20: =IF(D11<>F20," No olvide que el Nº de personas que retira Bebida Láctea Años Dorados (BLAD) debe ser igual a los Kilos que retiran en Seccion A.-","") -> No olvide que el Nº de personas que retira Bebida Láctea Años Dorados (BLAD) debe ser igual a los Kilos que retiran en Seccion A.- | AE20: =IF($C20=0,"",IF($C11="",IF($C20="",0,1),"")) | AF20: =IF($F20=0,"",IF($D11="",IF($F20="",0,1),""))
A21: 16100600 | B21: 65 - 69 años en programa social (Vínculos, Familia, Calle u otro) | C21: =IFERROR(VLOOKUP($A21,filtro!$A$4:$AX$57,2,FALSE),) -> 933 | D21: =IFERROR(VLOOKUP($A21,filtro!$A$4:$AX$57,3,FALSE),) -> 5 | E21: =IFERROR(VLOOKUP($A21,filtro!$A$4:$AX$57,4,FALSE),) -> 229 | F21: =IFERROR(VLOOKUP($A21,filtro!$A$4:$AX$57,5,FALSE),) -> 913 | G21: =IFERROR(VLOOKUP($A21,filtro!$A$4:$AX$57,6,FALSE),) -> 5 | H21: =IFERROR(VLOOKUP($A21,filtro!$A$4:$AX$57,7,FALSE),) -> 228 | AC21: =IF(D12<>F21," No olvide que el Nº de personas que retira Bebida Láctea Años Dorados (BLAD) debe ser igual a los Kilos que retiran en Seccion A.-","") -> No olvide que el Nº de personas que retira Bebida Láctea Años Dorados (BLAD) debe ser igual a los Kilos que retiran en Seccion A.- | AE21: =IF($C21=0,"",IF($C12="",IF($C21="",0,1),"")) | AF21: =IF($F21=0,"",IF($D12="",IF($F21="",0,1),""))
A22: 16100700 | B22: 60 - 69 años con tuberculosis | C22: =IFERROR(VLOOKUP($A22,filtro!$A$4:$AX$57,2,FALSE),) -> 94 | D22: =IFERROR(VLOOKUP($A22,filtro!$A$4:$AX$57,3,FALSE),) -> 2 | E22: =IFERROR(VLOOKUP($A22,filtro!$A$4:$AX$57,4,FALSE),) -> 23 | F22: =IFERROR(VLOOKUP($A22,filtro!$A$4:$AX$57,5,FALSE),) -> 94 | G22: =IFERROR(VLOOKUP($A22,filtro!$A$4:$AX$57,6,FALSE),) -> 2 | H22: =IFERROR(VLOOKUP($A22,filtro!$A$4:$AX$57,7,FALSE),) -> 23 | AC22: =IF(D13<>F22," No olvide que el Nº de personas que retira Bebida Láctea Años Dorados (BLAD) debe ser igual a los Kilos que retiran en Seccion A.-","") -> No olvide que el Nº de personas que retira Bebida Láctea Años Dorados (BLAD) debe ser igual a los Kilos que retiran en Seccion A.- | AE22: =IF($C22=0,"",IF($C13="",IF($C22="",0,1),"")) | AF22: =IF($F22=0,"",IF($D13="",IF($F22="",0,1),""))
A23: 16100100 | B23: 60 - 69 años en ELEAM autorizado o similar | C23: =IFERROR(VLOOKUP($A23,filtro!$A$4:$AX$57,2,FALSE),) -> 510 | D23: =IFERROR(VLOOKUP($A23,filtro!$A$4:$AX$57,3,FALSE),) -> 58 | E23: =IFERROR(VLOOKUP($A23,filtro!$A$4:$AX$57,4,FALSE),) -> 198 | F23: =IFERROR(VLOOKUP($A23,filtro!$A$4:$AX$57,5,FALSE),) -> 510 | G23: =IFERROR(VLOOKUP($A23,filtro!$A$4:$AX$57,6,FALSE),) -> 58 | H23: =IFERROR(VLOOKUP($A23,filtro!$A$4:$AX$57,7,FALSE),) -> 196 | AC23: =IF(D14<>F23," No olvide que el Nº de personas que retira Bebida Láctea Años Dorados (BLAD) debe ser igual a los Kilos que retiran en Seccion A.-","") -> No olvide que el Nº de personas que retira Bebida Láctea Años Dorados (BLAD) debe ser igual a los Kilos que retiran en Seccion A.- | AE23: =IF($C23=0,"",IF($C14="",IF($C23="",0,1),"")) | AF23: =IF($F23=0,"",IF($D14="",IF($F23="",0,1),""))
B24: TOTAL | C24: =SUM(C19:C23) -> 308121 | D24: =SUM(D19:D23) -> 6202 | E24: =SUM(E19:E23) -> 66486 | F24: =SUM(F19:F23) -> 307996 | G24: =SUM(G19:G23) -> 6352 | H24: =SUM(H19:H23) -> 65560
B25: Sección C: Existencia y movimiento de productos
B26: Alimentos | C26: Saldo mes anterior | D26: Ingresos | F26: Total disponible | G26: Egresos | L26: Saldo mes siguiente | M26: Necesidades
D27: Planta | E27: Por traspaso | G27: Distribuido a beneficiarios | H27: Mermas (Incluye faltantes) | I27: Otros: (demostraciones, donaciones, etc.) | J27: Traspaso | K27: Total egresos | M27: Bodega del estableci- miento | N27: Bodegas Centrales
B29: Crema Años Dorados (CAD) | F29: =SUM(C29:E29) -> 0 | G29: =C15 -> 328393 | K29: =SUM(G29:J29) -> 328393 | L29: =F29-K29 -> -328393 | AC29: =IF((G29+#REF!)=C15,0,1) -> #REF!
B30: Bebida Láctea Años Dorados (BLAD) | F30: =SUM(C30:E30) -> 0 | G30: =D15 -> 328393 | K30: =SUM(G30:J30) -> 328393 | L30: =F30-K30 -> -328393 | AC30: =IF((G30+#REF!)=D15,0,1) -> #REF!
B31: Sección D: PACAM - Número de personas que retiran, pertenecientes al PRAIS (incluidos en Sección B)
B32: Grupo Programático | C32: Crema Años Dorados (CAD) | F32: Bebida Láctea Años Dorados (BLAD)
C33: Personas (que retiran en el mes) | D33: Ingresos del mes | E33: Inasistentes del mes | F33: Personas (que retiran en el mes) | G33: Ingresos del mes | H33: Inasistentes del mes
A34: 16200100 | B34: 70 años y más (independiente del motivo de ingreso) | C34: =IFERROR(VLOOKUP($A34,filtro!$A$4:$AX$57,2,FALSE),) -> 2938 | D34: =IFERROR(VLOOKUP($A34,filtro!$A$4:$AX$57,3,FALSE),) -> 5 | E34: =IFERROR(VLOOKUP($A34,filtro!$A$4:$AX$57,4,FALSE),) -> 612 | F34: =IFERROR(VLOOKUP($A34,filtro!$A$4:$AX$57,5,FALSE),) -> 2936 | G34: =IFERROR(VLOOKUP($A34,filtro!$A$4:$AX$57,6,FALSE),) -> 5 | H34: =IFERROR(VLOOKUP($A34,filtro!$A$4:$AX$57,7,FALSE),) -> 612 | I34: =$AB34&" "&$AC34
A35: 16200230 | B35: 65 - 69 años con alteración de la funcionalidad | C35: =IFERROR(VLOOKUP($A35,filtro!$A$4:$AX$57,2,FALSE),) -> 138 | D35: =IFERROR(VLOOKUP($A35,filtro!$A$4:$AX$57,3,FALSE),) -> 2 | E35: =IFERROR(VLOOKUP($A35,filtro!$A$4:$AX$57,4,FALSE),) -> 29 | F35: =IFERROR(VLOOKUP($A35,filtro!$A$4:$AX$57,5,FALSE),) -> 138 | G35: =IFERROR(VLOOKUP($A35,filtro!$A$4:$AX$57,6,FALSE),) -> 3 | H35: =IFERROR(VLOOKUP($A35,filtro!$A$4:$AX$57,7,FALSE),) -> 39 | I35: =$AB35&" "&$AC35
A36: 16200240 | B36: 65 - 69 años en programa social (Vínculos, Familia, Calle u otro) | C36: =IFERROR(VLOOKUP($A36,filtro!$A$4:$AX$57,2,FALSE),) -> 1 | D36: =IFERROR(VLOOKUP($A36,filtro!$A$4:$AX$57,3,FALSE),) -> 0 | E36: =IFERROR(VLOOKUP($A36,filtro!$A$4:$AX$57,4,FALSE),) -> 0 | F36: =IFERROR(VLOOKUP($A36,filtro!$A$4:$AX$57,5,FALSE),) -> 1 | G36: =IFERROR(VLOOKUP($A36,filtro!$A$4:$AX$57,6,FALSE),) -> 0 | H36: =IFERROR(VLOOKUP($A36,filtro!$A$4:$AX$57,7,FALSE),) -> 0 | I36: =$AB36&" "&$AC36
A37: 16200200 | B37: 60 - 69 años con tuberculosis | C37: =IFERROR(VLOOKUP($A37,filtro!$A$4:$AX$57,2,FALSE),) -> 0 | D37: =IFERROR(VLOOKUP($A37,filtro!$A$4:$AX$57,3,FALSE),) -> 0 | E37: =IFERROR(VLOOKUP($A37,filtro!$A$4:$AX$57,4,FALSE),) -> 0 | F37: =IFERROR(VLOOKUP($A37,filtro!$A$4:$AX$57,5,FALSE),) -> 0 | G37: =IFERROR(VLOOKUP($A37,filtro!$A$4:$AX$57,6,FALSE),) -> 0 | H37: =IFERROR(VLOOKUP($A37,filtro!$A$4:$AX$57,7,FALSE),) -> 0 | I37: =$AB37&" "&$AC37
A38: 16200250 | B38: 60 - 69 años en ELEAM autorizado o similar | C38: =IFERROR(VLOOKUP($A38,filtro!$A$4:$AX$57,2,FALSE),) -> 2 | D38: =IFERROR(VLOOKUP($A38,filtro!$A$4:$AX$57,3,FALSE),) -> 0 | E38: =IFERROR(VLOOKUP($A38,filtro!$A$4:$AX$57,4,FALSE),) -> 2 | F38: =IFERROR(VLOOKUP($A38,filtro!$A$4:$AX$57,5,FALSE),) -> 2 | G38: =IFERROR(VLOOKUP($A38,filtro!$A$4:$AX$57,6,FALSE),) -> 0 | H38: =IFERROR(VLOOKUP($A38,filtro!$A$4:$AX$57,7,FALSE),) -> 2 | I38: =$AB38&" "&$AC38
B39: TOTAL | C39: =SUM(C34:C38) -> 3079 | D39: =SUM(D34:D38) -> 7 | E39: =SUM(E34:E38) -> 643 | F39: =SUM(F34:F38) -> 3077 | G39: =SUM(G34:G38) -> 8 | H39: =SUM(H34:H38) -> 653
B205: =SUM(B8:O39) -> 3506726 | AE205: =SUM(AE1:AF204) -> 0
